BEGIN:VCALENDAR
VERSION:2.0
PRODID:Social Circle, GA Calendar Creator
METHOD:PUBLISH
BEGIN:VEVENT
DTSTAMP:20230628T161747
DTSTART:20230711T080000
DTEND:20230711T090000
SUMMARY:Main Street Commission meeting CANCELLED
DESCRIPTION:The Social Circle Main Street Commission typically meets at 8 a.m. the second Tuesday of every month at The City Community Room, 138 East Hightower Trail, behind the Police Department. Agendas and minutes can be found at&nbsp;<a href="http://socialcirclecityga.iqm2.com/Citizens/Default.aspx" target="_blank" id="link_1675279845953">Meetings and Agendas.</a>
X-ALT-DESC;FMTTYPE=text/html:The Social Circle Main Street Commission typically meets at 8 a.m. the second Tuesday of every month at The City Community Room, 138 East Hightower Trail, behind the Police Department. Agendas and minutes can be found at&nbsp;<a href="http://socialcirclecityga.iqm2.com/Citizens/Default.aspx" target="_blank" id="link_1675279845953">Meetings and Agendas.</a>
LOCATION:City Community Room\, 138 East Hightower Trail Social Circle\, Georgia 30025
CLASS:PUBLIC
END:VEVENT
END:VCALENDAR
