BEGIN:VCALENDAR
VERSION:2.0
PRODID:Social Circle, GA Calendar Creator
METHOD:PUBLISH
BEGIN:VEVENT
DTSTAMP:20230202T085200
DTSTART:20230315T130000
DTEND:20230315T140000
SUMMARY:Municipal Court
DESCRIPTION:Court is typically held the third Wednesday of the month starting at 1 p.m. at the Community Room, 138 E. Hightower Trail.
X-ALT-DESC;FMTTYPE=text/html:Court is typically held the third Wednesday of the month starting at 1 p.m. at the Community Room, 138 E. Hightower Trail.
LOCATION:City Community Room\, 138 East Hightower Trail Social Circle\, Georgia 30025
CLASS:PUBLIC
END:VEVENT
END:VCALENDAR
