BEGIN:VCALENDAR
VERSION:2.0
PRODID:Social Circle, GA Calendar Creator
METHOD:PUBLISH
BEGIN:VEVENT
DTSTAMP:20230202T091736
DTSTART:20231210T180000
DTEND:20231210T190000
SUMMARY:Live Nativity
DESCRIPTION:Celebrate the "reason for the season" as the Social Circle Community Theater performs a live Nativity and a children's choir sings holiday songs. Hayrides start at 5:00 p.m. and the Nativity begins at 6:00 p.m.
X-ALT-DESC;FMTTYPE=text/html:Celebrate the "reason for the season" as the Social Circle Community Theater performs a live Nativity and a children's choir sings holiday songs. Hayrides start at 5:00 p.m. and the Nativity begins at 6:00 p.m.
LOCATION:
CLASS:PUBLIC
END:VEVENT
END:VCALENDAR
