BEGIN:VCALENDAR
VERSION:2.0
PRODID:Social Circle, GA Calendar Creator
METHOD:PUBLISH
BEGIN:VEVENT
DTSTAMP:20231010T100050
DTSTART:20231117T180000
DTEND:20231117T200000
SUMMARY:Social Circle Christmas Celebration and Tree Lighting
DESCRIPTION:Join us in Friendship Park as we kick off the holiday season by lighting the Christmas tree. Children can visit with Santa and the Grinch. Holiday goodies and activities will be offered. The event is from 6:00-8:00 p.m.
X-ALT-DESC;FMTTYPE=text/html:Join us in Friendship Park as we kick off the holiday season by lighting the Christmas tree. Children can visit with Santa and the Grinch. Holiday goodies and activities will be offered. The event is from 6:00-8:00 p.m.
LOCATION:
CLASS:PUBLIC
END:VEVENT
END:VCALENDAR
