BEGIN:VCALENDAR
VERSION:2.0
PRODID:Social Circle, GA Calendar Creator
METHOD:PUBLISH
BEGIN:VEVENT
DTSTAMP:20230202T091457
DTSTART:20231028T100000
DTEND:20231028T160000
SUMMARY:Friendship Festival
DESCRIPTION:The annual Social Circle Friendship Festival is from 10:00 a.m.-4:00 p.m. downtown. See what Social Circle has to offer as we celebrate the 29th year of the Friendship Festival. There will be over 100 vendors featuring arts, crafts, food, and kids' activities. Q92.3 radio will host an onsite broadcast and live music will be performed throughout the day.
X-ALT-DESC;FMTTYPE=text/html:The annual Social Circle Friendship Festival is from 10:00 a.m.-4:00 p.m. downtown. See what Social Circle has to offer as we celebrate the 29th year of the Friendship Festival. There will be over 100 vendors featuring arts, crafts, food, and kids' activities. Q92.3 radio will host an onsite broadcast and live music will be performed throughout the day.
LOCATION:
CLASS:PUBLIC
END:VEVENT
END:VCALENDAR
