BEGIN:VCALENDAR
VERSION:2.0
PRODID:Social Circle, GA Calendar Creator
METHOD:PUBLISH
BEGIN:VEVENT
DTSTAMP:20231024T152803
DTSTART:20231027T160000
DTEND:20231027T190000
SUMMARY:Downtown Trick or Treating
DESCRIPTION:Join us on a walk through downtown to trick-or-treat from local businesses and restaurants. The event is from 4:00 -6:30 p.m.
X-ALT-DESC;FMTTYPE=text/html:Join us on a walk through downtown to trick-or-treat from local businesses and restaurants. The event is from 4:00 -6:30 p.m.
LOCATION:
CLASS:PUBLIC
END:VEVENT
END:VCALENDAR
