BEGIN:VCALENDAR
VERSION:2.0
PRODID:Social Circle, GA Calendar Creator
METHOD:PUBLISH
BEGIN:VEVENT
DTSTAMP:20230404T163831
DTSTART:20230505T180000
DTEND:20230505T210000
SUMMARY:Cinco de Mayo Beer Crawl and Concert
DESCRIPTION:Celebrate the culture and heritage of our nation's neighbor to the South, Mexico, on May 5, Cinco de Mayo, right here in downtown Social Circle. Cinco de Mayo commemorates Mexico's victory over France in 1862, at the Battle of Puebla when the two countries were at war.&nbsp;
X-ALT-DESC;FMTTYPE=text/html:Celebrate the culture and heritage of our nation's neighbor to the South, Mexico, on May 5, Cinco de Mayo, right here in downtown Social Circle. Cinco de Mayo commemorates Mexico's victory over France in 1862, at the Battle of Puebla when the two countries were at war.&nbsp;
LOCATION:Downtown Social Circle\, 
CLASS:PUBLIC
END:VEVENT
END:VCALENDAR
