BEGIN:VCALENDAR
VERSION:2.0
PRODID:Social Circle, GA Calendar Creator
METHOD:PUBLISH
BEGIN:VEVENT
DTSTAMP:20230314T165001
DTSTART:20230317T180000
DTEND:20230317T210000
SUMMARY:St. Patrick's Day Beer Crawl and Concert
DESCRIPTION:Celebrate St. Patrick's Day in Downtown Social Circle by dining out and obtaining a passport. The passport allows you to visit each local restaurant for their signature drink. Participating restaurants include Willy's Mex Mex, Critters Outdoor Pizza and Tin Plate.
X-ALT-DESC;FMTTYPE=text/html:Celebrate St. Patrick's Day in Downtown Social Circle by dining out and obtaining a passport. The passport allows you to visit each local restaurant for their signature drink. Participating restaurants include Willy's Mex Mex, Critters Outdoor Pizza and Tin Plate.
LOCATION:
CLASS:PUBLIC
END:VEVENT
END:VCALENDAR
