BEGIN:VCALENDAR
VERSION:2.0
PRODID:Social Circle, GA Calendar Creator
METHOD:PUBLISH
BEGIN:VEVENT
DTSTAMP:20230201T170654
DTSTART:20230209T180000
DTEND:20230209T200000
SUMMARY:Chocolate Crawl
DESCRIPTION:Join us for an evening to shop and dine Downtown while collecting yummy chocolates!&nbsp;Start at the Welcome Center located at 129 East Hightower Trail to pick up a map and treat bag. Follow the map to visit all the participating businesses.&nbsp;
X-ALT-DESC;FMTTYPE=text/html:Join us for an evening to shop and dine Downtown while collecting yummy chocolates!&nbsp;Start at the Welcome Center located at 129 East Hightower Trail to pick up a map and treat bag. Follow the map to visit all the participating businesses.&nbsp;
LOCATION:Downtown Social Circle\, 
CLASS:PUBLIC
END:VEVENT
END:VCALENDAR
