BEGIN:VCALENDAR
VERSION:2.0
PRODID:Social Circle, GA Calendar Creator
METHOD:PUBLISH
BEGIN:VEVENT
DTSTAMP:20230220T084742
DTSTART:20230221T183000
DTEND:20230221T193000
SUMMARY:Mayor and City Council Regular Meeting
DESCRIPTION:To see the agenda for this meeting, go to&nbsp;<a href="http://socialcirclecityga.iqm2.com/Citizens/Default.aspx" target="_blank" id="link_1675278636141">Meetings and Agendas.</a>
X-ALT-DESC;FMTTYPE=text/html:To see the agenda for this meeting, go to&nbsp;<a href="http://socialcirclecityga.iqm2.com/Citizens/Default.aspx" target="_blank" id="link_1675278636141">Meetings and Agendas.</a>
LOCATION:City Community Room\, 138 East Hightower Trail Social Circle\, Georgia 30025
CLASS:PUBLIC
END:VEVENT
END:VCALENDAR
