BEGIN:VCALENDAR
VERSION:2.0
PRODID:Social Circle, GA Calendar Creator
METHOD:PUBLISH
BEGIN:VEVENT
DTSTAMP:20230117T155728
DTSTART:20230118T130000
DTEND:20230118T140000
SUMMARY:Municipal Court
DESCRIPTION:Municipal Court is held at 1:00 p.m. the 3rd Wednesday of the month in the City Community Room, 138 E. Hightower Trail, behind the Police Department.
X-ALT-DESC;FMTTYPE=text/html:Municipal Court is held at 1:00 p.m. the 3rd Wednesday of the month in the City Community Room, 138 E. Hightower Trail, behind the Police Department.
LOCATION:City Community Room\, 138 East Hightower Trail Social Circle\, Georgia 30025
CLASS:PUBLIC
END:VEVENT
END:VCALENDAR
