BEGIN:VCALENDAR
VERSION:2.0
PRODID:Social Circle, GA Calendar Creator
METHOD:PUBLISH
BEGIN:VEVENT
DTSTAMP:20230117T161348
DTSTART:20230117T183000
DTEND:20230117T193000
SUMMARY:City Council Regular Meeting
DESCRIPTION:The Mayor and Council will hold a regular meeting at the City Community Room, 138 E. Hightower Trail. Regular City Council meetings are held every 3rd Tuesday of the month at 6:30 p.m. To see the agenda for this meeting, go to&nbsp;<a href="http://http//socialcirclecityga.iqm2.com/Citizens/Calendar.aspx" target="_blank" id="link_1673020567719">Meetings and Agendas.</a>
X-ALT-DESC;FMTTYPE=text/html:The Mayor and Council will hold a regular meeting at the City Community Room, 138 E. Hightower Trail. Regular City Council meetings are held every 3rd Tuesday of the month at 6:30 p.m. To see the agenda for this meeting, go to&nbsp;<a href="http://http//socialcirclecityga.iqm2.com/Citizens/Calendar.aspx" target="_blank" id="link_1673020567719">Meetings and Agendas.</a>
LOCATION:City Community Room\, 138 East Hightower Trail Social Circle\, Georgia 30025
CLASS:PUBLIC
END:VEVENT
END:VCALENDAR
