BEGIN:VCALENDAR
VERSION:2.0
PRODID:Social Circle, GA Calendar Creator
METHOD:PUBLISH
BEGIN:VEVENT
DTSTAMP:20230106T105649
DTSTART:20230110T180000
DTEND:20230110T190000
SUMMARY:Historic Preservation Commission
DESCRIPTION:<p>The City established the Historic Preservation Commission to provide a uniform procedure for use in providing for the protection, enhancement, perpetuation and use of places, district, sites, buildings, structures, objects, and landscape features having a special historical, cultural or aesthetic interest or value.</p><p>To see the agenda for this meeting, go to <a href="http://http://socialcirclecityga.iqm2.com/Citizens/Calendar.aspx" target="_blank" id="link_1673020567719">Meetings and Agendas.</a></p><p>&nbsp;</p>
X-ALT-DESC;FMTTYPE=text/html:<p>The City established the Historic Preservation Commission to provide a uniform procedure for use in providing for the protection, enhancement, perpetuation and use of places, district, sites, buildings, structures, objects, and landscape features having a special historical, cultural or aesthetic interest or value.</p><p>To see the agenda for this meeting, go to <a href="http://http://socialcirclecityga.iqm2.com/Citizens/Calendar.aspx" target="_blank" id="link_1673020567719">Meetings and Agendas.</a></p><p>&nbsp;</p>
LOCATION:City Community Room\, 138 East Hightower Trail Social Circle\, Georgia 30025
CLASS:PUBLIC
END:VEVENT
END:VCALENDAR
