BEGIN:VCALENDAR
VERSION:2.0
PRODID:Social Circle, GA Calendar Creator
METHOD:PUBLISH
BEGIN:VEVENT
DTSTAMP:20230106T152727
DTSTART:20230117T080000
DTEND:20230117T090000
SUMMARY:Main Street Commission
DESCRIPTION:To see the agenda for this meeting, go to <a href="http://" target="_blank" id="link_1673020267580">&nbsp;</a><a href="http://socialcirclecityga.iqm2.com/Citizens/Calendar.aspx" target="_blank" id="link_1673020464527">meetings and agendas</a>.
X-ALT-DESC;FMTTYPE=text/html:To see the agenda for this meeting, go to <a href="http://" target="_blank" id="link_1673020267580">&nbsp;</a><a href="http://socialcirclecityga.iqm2.com/Citizens/Calendar.aspx" target="_blank" id="link_1673020464527">meetings and agendas</a>.
LOCATION:City Community Room\, 138 East Hightower Trail Social Circle\, Georgia 30025
CLASS:PUBLIC
END:VEVENT
END:VCALENDAR
