BEGIN:VCALENDAR
VERSION:2.0
PRODID:Social Circle, GA Calendar Creator
METHOD:PUBLISH
BEGIN:VEVENT
DTSTAMP:20230126T125534
DTSTART:20221222T180000
DTEND:20221222T190000
SUMMARY:Tree Board
DESCRIPTION:The Tree Board was created to protect and preserve the trees within the City public spaces and to oversee the protection, preservation, and planting of trees in new construction as set forth in the Code of Ordinances.
X-ALT-DESC;FMTTYPE=text/html:The Tree Board was created to protect and preserve the trees within the City public spaces and to oversee the protection, preservation, and planting of trees in new construction as set forth in the Code of Ordinances.
LOCATION:City Community Room\, 138 East Hightower Trail Social Circle\, Georgia 30025
CLASS:PUBLIC
END:VEVENT
END:VCALENDAR
