BEGIN:VCALENDAR
VERSION:2.0
PRODID:Social Circle, GA Calendar Creator
METHOD:PUBLISH
BEGIN:VEVENT
DTSTAMP:20260331T084009
DTSTART:20260402T160000
DTEND:20260402T190000
SUMMARY:Farmers Market
DESCRIPTION:<div x14z9mp="" xat24cr="" x1lziwak="" x1vvkbs="" x126k92a"=""><div dir="auto">We’re excited to kick off our Spring/Summer Farmers Market this Thursday! </div></div><div xat24cr="" x1lziwak="" x1vvkbs="" xtlvy1s="" x126k92a"=""><div dir="auto">April 2nd from 4PM–7PM</div><div dir="auto">Friendship Park</div></div><div xat24cr="" x1lziwak="" x1vvkbs="" xtlvy1s="" x126k92a"=""><div dir="auto">Come grab dinner Downtown, shop local, and enjoy the start of market season—we’d love to see you there!</div></div><div xat24cr="" x1lziwak="" x1vvkbs="" xtlvy1s="" x126k92a"=""><div dir="auto">We’ll be back on the first and third Thursday of each month through October, so mark your calendars!</div></div>
X-ALT-DESC;FMTTYPE=text/html:<div x14z9mp="" xat24cr="" x1lziwak="" x1vvkbs="" x126k92a"=""><div dir="auto">We’re excited to kick off our Spring/Summer Farmers Market this Thursday! </div></div><div xat24cr="" x1lziwak="" x1vvkbs="" xtlvy1s="" x126k92a"=""><div dir="auto">April 2nd from 4PM–7PM</div><div dir="auto">Friendship Park</div></div><div xat24cr="" x1lziwak="" x1vvkbs="" xtlvy1s="" x126k92a"=""><div dir="auto">Come grab dinner Downtown, shop local, and enjoy the start of market season—we’d love to see you there!</div></div><div xat24cr="" x1lziwak="" x1vvkbs="" xtlvy1s="" x126k92a"=""><div dir="auto">We’ll be back on the first and third Thursday of each month through October, so mark your calendars!</div></div>
LOCATION:
CLASS:PUBLIC
END:VEVENT
END:VCALENDAR
