BEGIN:VCALENDAR
VERSION:2.0
PRODID:Social Circle, GA Calendar Creator
METHOD:PUBLISH
BEGIN:VEVENT
DTSTAMP:20260415T145103
DTSTART:20260425T100000
DTEND:20260425T150000
SUMMARY:Spring Festival
DESCRIPTION:Mark your calendars for&nbsp;April 25 from 10 AM – 3 PM&nbsp;and come enjoy a fun-filled day in Downtown Social Circle! Bring your family and friends out for a great community celebration.
X-ALT-DESC;FMTTYPE=text/html:Mark your calendars for&nbsp;April 25 from 10 AM – 3 PM&nbsp;and come enjoy a fun-filled day in Downtown Social Circle! Bring your family and friends out for a great community celebration.
LOCATION:Downtown Social Circle\, 129 E Hightower Trl Social Circle\, Georgia 30025
CLASS:PUBLIC
END:VEVENT
END:VCALENDAR
