BEGIN:VCALENDAR
VERSION:2.0
PRODID:Social Circle, GA Calendar Creator
METHOD:PUBLISH
BEGIN:VEVENT
DTSTAMP:20260330T103548
DTSTART:20260404T100000
DTEND:20260404T113000
SUMMARY:Community Wide Easter Egg Hunt
DESCRIPTION:<p xat24cr="" x1lziwak="" x1vvkbs="">Join us for a fun, family-friendly Easter Egg Hunt in the heart of Downtown Social Circle!</p><p xat24cr="" x1lziwak="" x1vvkbs="">&nbsp;Saturday, April 4, beginning at 10 AM</p><p xat24cr="" x1lziwak="" x1vvkbs="">&nbsp;Free event | Family-friendly | Open to the community</p><p xat24cr="" x1lziwak="" x1vvkbs="">&nbsp;</p><p xat24cr="" x1lziwak="" x1vvkbs=""></p>
X-ALT-DESC;FMTTYPE=text/html:<p xat24cr="" x1lziwak="" x1vvkbs="">Join us for a fun, family-friendly Easter Egg Hunt in the heart of Downtown Social Circle!</p><p xat24cr="" x1lziwak="" x1vvkbs="">&nbsp;Saturday, April 4, beginning at 10 AM</p><p xat24cr="" x1lziwak="" x1vvkbs="">&nbsp;Free event | Family-friendly | Open to the community</p><p xat24cr="" x1lziwak="" x1vvkbs="">&nbsp;</p><p xat24cr="" x1lziwak="" x1vvkbs=""></p>
LOCATION:
CLASS:PUBLIC
END:VEVENT
END:VCALENDAR
