BEGIN:VCALENDAR
VERSION:2.0
PRODID:Social Circle, GA Calendar Creator
METHOD:PUBLISH
BEGIN:VEVENT
DTSTAMP:20260410T120354
DTSTART:20260418T080000
DTEND:20260418T160000
SUMMARY:City Dumpster Days
DESCRIPTION:<div dir="auto">YOUR TRASH IS OUR TREASURE! </div><div dir="auto">Trying to do some spring cleaning? Dumpster Days are April 18 &amp; 19! </div><div dir="auto"> Location: Public Works Yard, 335 Vine Circle</div><div dir="auto"> Hours: 8:00 AM – 4:00 PM</div><div dir="auto"> Accepted Items:</div><div dir="auto">- Household items</div><div dir="auto">- Electronics (TVs, Cell Phones, Computers, etc.)</div><div dir="auto">- Refrigerators/Freezers (with no freon)</div><div dir="auto">- Paint</div><div dir="auto">- Fire Extinguishers</div><div dir="auto">- Propane Tanks</div><div dir="auto">- Mattresses/Furniture</div><div dir="auto">- Tires</div><div dir="auto">- Oil (Used and Un-used)</div><div dir="auto">NOT Accepted Items:</div><div dir="auto">-Construction Materials such as wood, carpet, flooring, shingles, decking, concrete, etc.</div><div dir="auto">-Tree stumps or Root Balls</div><div dir="auto">- Hazardous chemicals – Asbestos, paint thinners, lawn chemicals, mercury products, rechargeable batteries, other items that are Toxic (harmful if inhaled, swallowed, or absorbed), Flammable (can catch fire easily), Corrosive (can eat through materials or skin), Reactive (can explode or release toxic fumes when mixed). The City will recycle fuel and oil. If recycling any equipment containing fuel or oil, remove the fuel and oil from the equipment.</div><div dir="auto">- Any type of drum that is sealed (one end must be off or holes drilled in the drum and no material within)</div><div dir="auto">- Goods containing refrigerant</div><div dir="auto">- Medical Waste</div><div dir="auto">These lists are not all-inclusive. If you have any questions, call City Hall at 770-464-2380.</div><div dir="auto">Remember! To use dumpsters, you must show a current utility bill or proof that you are an existing City of Social Circle utility customer or tax bill.</div>
X-ALT-DESC;FMTTYPE=text/html:<div dir="auto">YOUR TRASH IS OUR TREASURE! </div><div dir="auto">Trying to do some spring cleaning? Dumpster Days are April 18 &amp; 19! </div><div dir="auto"> Location: Public Works Yard, 335 Vine Circle</div><div dir="auto"> Hours: 8:00 AM – 4:00 PM</div><div dir="auto"> Accepted Items:</div><div dir="auto">- Household items</div><div dir="auto">- Electronics (TVs, Cell Phones, Computers, etc.)</div><div dir="auto">- Refrigerators/Freezers (with no freon)</div><div dir="auto">- Paint</div><div dir="auto">- Fire Extinguishers</div><div dir="auto">- Propane Tanks</div><div dir="auto">- Mattresses/Furniture</div><div dir="auto">- Tires</div><div dir="auto">- Oil (Used and Un-used)</div><div dir="auto">NOT Accepted Items:</div><div dir="auto">-Construction Materials such as wood, carpet, flooring, shingles, decking, concrete, etc.</div><div dir="auto">-Tree stumps or Root Balls</div><div dir="auto">- Hazardous chemicals – Asbestos, paint thinners, lawn chemicals, mercury products, rechargeable batteries, other items that are Toxic (harmful if inhaled, swallowed, or absorbed), Flammable (can catch fire easily), Corrosive (can eat through materials or skin), Reactive (can explode or release toxic fumes when mixed). The City will recycle fuel and oil. If recycling any equipment containing fuel or oil, remove the fuel and oil from the equipment.</div><div dir="auto">- Any type of drum that is sealed (one end must be off or holes drilled in the drum and no material within)</div><div dir="auto">- Goods containing refrigerant</div><div dir="auto">- Medical Waste</div><div dir="auto">These lists are not all-inclusive. If you have any questions, call City Hall at 770-464-2380.</div><div dir="auto">Remember! To use dumpsters, you must show a current utility bill or proof that you are an existing City of Social Circle utility customer or tax bill.</div>
LOCATION:
CLASS:PUBLIC
END:VEVENT
END:VCALENDAR
