BEGIN:VCALENDAR
VERSION:2.0
PRODID:Social Circle, GA Calendar Creator
METHOD:PUBLISH
BEGIN:VEVENT
DTSTAMP:20260330T093337
DTSTART:20260418T080000
DTEND:20260418T080000
SUMMARY:City Wide Cleanup
DESCRIPTION:The City of Social Circle will host a City-Wide Cleanup on Saturday, April 18, beginning at 8:00 a.m. Volunteers are invited to meet outside the City Community Room, located at 138 E. Hightower Trail, to help keep the community clean and beautiful.
X-ALT-DESC;FMTTYPE=text/html:The City of Social Circle will host a City-Wide Cleanup on Saturday, April 18, beginning at 8:00 a.m. Volunteers are invited to meet outside the City Community Room, located at 138 E. Hightower Trail, to help keep the community clean and beautiful.
LOCATION:City Community Room\, 138 East Hightower Trail Social Circle\, Georgia 30025
CLASS:PUBLIC
END:VEVENT
END:VCALENDAR
