BEGIN:VCALENDAR
VERSION:2.0
PRODID:Social Circle, GA Calendar Creator
METHOD:PUBLISH
BEGIN:VEVENT
DTSTAMP:20260316T145519
DTSTART:20260323T000000
DTEND:20260323T235900
SUMMARY:Cemetery Cleanup
DESCRIPTION:The City of Social Circle will begin cleanup efforts at Lakewood and Benny Hill Cemeteries on March 23. All trinkets and faded flowers remaining on March 23 will be removed and discarded. The city reserves the right to remove any items on or near plots that are in violation of Section 6-4 of the Code of Ordinances. Items that are removed will be disposed of at the city’s discretion, and the city will not be held liable for any loss or damage to items placed on or near plots in violation of these regulations. For further information, please contact City Hall at 770-464-2380.
X-ALT-DESC;FMTTYPE=text/html:The City of Social Circle will begin cleanup efforts at Lakewood and Benny Hill Cemeteries on March 23. All trinkets and faded flowers remaining on March 23 will be removed and discarded. The city reserves the right to remove any items on or near plots that are in violation of Section 6-4 of the Code of Ordinances. Items that are removed will be disposed of at the city’s discretion, and the city will not be held liable for any loss or damage to items placed on or near plots in violation of these regulations. For further information, please contact City Hall at 770-464-2380.
LOCATION:
CLASS:PUBLIC
END:VEVENT
END:VCALENDAR
