BEGIN:VCALENDAR
VERSION:2.0
PRODID:Social Circle, GA Calendar Creator
METHOD:PUBLISH
BEGIN:VEVENT
DTSTAMP:20260122T142923
DTSTART:20260228T000000
DTEND:20260228T160000
SUMMARY:Black History Event
DESCRIPTION:<div x14z9mp="" xat24cr="" x1lziwak="" x1vvkbs"="">Join us for a Black History Celebration at Friendship Park as we come together to honor history, culture, and community.</div><div xat24cr="" x1lziwak="" x1vvkbs="" xtlvy1s"="">This event will feature music, local vendors, and opportunities to learn and reflect on Black history, with a focus on connection and celebration right here in Social Circle. Bring your family, invite your friends, and enjoy an afternoon in the park as we recognize the contributions, stories, and impact of Black history—past and present.</div><div xat24cr="" x1lziwak="" x1vvkbs="" xtlvy1s"="">&nbsp;Location: Friendship Park, Downtown Social Circle<br>&nbsp;Date: February 28<br>&nbsp;Includes: Music • Vendors • History • Community</div><div xat24cr="" x1lziwak="" x1vvkbs="" xtlvy1s"="">More details coming soon. We look forward to celebrating together!</div>
X-ALT-DESC;FMTTYPE=text/html:<div x14z9mp="" xat24cr="" x1lziwak="" x1vvkbs"="">Join us for a Black History Celebration at Friendship Park as we come together to honor history, culture, and community.</div><div xat24cr="" x1lziwak="" x1vvkbs="" xtlvy1s"="">This event will feature music, local vendors, and opportunities to learn and reflect on Black history, with a focus on connection and celebration right here in Social Circle. Bring your family, invite your friends, and enjoy an afternoon in the park as we recognize the contributions, stories, and impact of Black history—past and present.</div><div xat24cr="" x1lziwak="" x1vvkbs="" xtlvy1s"="">&nbsp;Location: Friendship Park, Downtown Social Circle<br>&nbsp;Date: February 28<br>&nbsp;Includes: Music • Vendors • History • Community</div><div xat24cr="" x1lziwak="" x1vvkbs="" xtlvy1s"="">More details coming soon. We look forward to celebrating together!</div>
LOCATION:
CLASS:PUBLIC
END:VEVENT
END:VCALENDAR
