BEGIN:VCALENDAR
VERSION:2.0
PRODID:Social Circle, GA Calendar Creator
METHOD:PUBLISH
BEGIN:VEVENT
DTSTAMP:20260122T142800
DTSTART:20260314T180000
DTEND:20260314T200000
SUMMARY:Shamrockin' Concert!
DESCRIPTION:<div x14z9mp="" xat24cr="" x1lziwak="" x1vvkbs"="">&nbsp;Shamrockin’ Concert in Downtown Social Circle&nbsp;</div><div xat24cr="" x1lziwak="" x1vvkbs="" xtlvy1s"="">Get ready to go green and enjoy a fun, festive evening of music in downtown Social Circle! Join us for the Shamrockin’ Concert, a lively celebration filled with great tunes, community spirit, and St. Patrick’s Day cheer.</div><div xat24cr="" x1lziwak="" x1vvkbs="" xtlvy1s"="">Bring your friends, wear your green, and come enjoy live music in a relaxed, family-friendly setting. It’s the perfect way to celebrate the season while supporting downtown and spending time with neighbors.</div><div xat24cr="" x1lziwak="" x1vvkbs="" xtlvy1s"="">&nbsp;Location: Downtown Social Circle<br>&nbsp;Date: Saturday, March 14<br>&nbsp;Featuring: Live music &amp; festive fun</div><div xat24cr="" x1lziwak="" x1vvkbs="" xtlvy1s"="">More details coming soon — stay tuned!&nbsp;</div>
X-ALT-DESC;FMTTYPE=text/html:<div x14z9mp="" xat24cr="" x1lziwak="" x1vvkbs"="">&nbsp;Shamrockin’ Concert in Downtown Social Circle&nbsp;</div><div xat24cr="" x1lziwak="" x1vvkbs="" xtlvy1s"="">Get ready to go green and enjoy a fun, festive evening of music in downtown Social Circle! Join us for the Shamrockin’ Concert, a lively celebration filled with great tunes, community spirit, and St. Patrick’s Day cheer.</div><div xat24cr="" x1lziwak="" x1vvkbs="" xtlvy1s"="">Bring your friends, wear your green, and come enjoy live music in a relaxed, family-friendly setting. It’s the perfect way to celebrate the season while supporting downtown and spending time with neighbors.</div><div xat24cr="" x1lziwak="" x1vvkbs="" xtlvy1s"="">&nbsp;Location: Downtown Social Circle<br>&nbsp;Date: Saturday, March 14<br>&nbsp;Featuring: Live music &amp; festive fun</div><div xat24cr="" x1lziwak="" x1vvkbs="" xtlvy1s"="">More details coming soon — stay tuned!&nbsp;</div>
LOCATION:
CLASS:PUBLIC
END:VEVENT
END:VCALENDAR
