BEGIN:VCALENDAR
VERSION:2.0
PRODID:Social Circle, GA Calendar Creator
METHOD:PUBLISH
BEGIN:VEVENT
DTSTAMP:20260109T165148
DTSTART:20260112T090000
DTEND:20260112T100000
SUMMARY:Downtown Development Authority - Called Meeting
DESCRIPTION:<div ltr="" scxw157264483="" bcx0"=""><p scxw157264483="" bcx0"="" paraid="1" paraeid="{5080a18d-e2be-4d04-ae74-3ec94bc3603e}{4}">PUBLIC NOTICE&nbsp;</p></div><div ltr="" scxw157264483="" bcx0"=""><p scxw157264483="" bcx0"="" paraid="2" paraeid="{5080a18d-e2be-4d04-ae74-3ec94bc3603e}{7}">The&nbsp;Down&nbsp;Department&nbsp;Authority of Social Circle&nbsp;is applying for funding from the U.S. Environmental Protection Agency (EPA) Brownfields Cleanup Grant to address contamination at the historic&nbsp;Social Circle Cotton Mill&nbsp;Site&nbsp;located&nbsp;in the&nbsp;Historic District.&nbsp;</p></div><div ltr="" scxw157264483="" bcx0"=""><p scxw157264483="" bcx0"="" paraid="3" paraeid="{5080a18d-e2be-4d04-ae74-3ec94bc3603e}{9}">A&nbsp;draft grant application, including the&nbsp;draft Analysis of Brownfield Cleanup Alternatives (ABCA), is available for public review and comment at:&nbsp;</p></div><div scxw157264483="" bcx0"=""><ul scxw157264483="" bcx0"="" role="list">    <li aria-setsize="-1" data-leveltext="●" data-font="" data-list-defn-props="{&quot;335552541&quot;:1,&quot;335559685&quot;:720,&quot;335559991&quot;:360,&quot;469769242&quot;:[8226],&quot;469777803&quot;:&quot;left&quot;,&quot;469777804&quot;:&quot;●&quot;,&quot;469777815&quot;:&quot;multilevel&quot;}" data-aria-posinset="1" data-aria-level="1" role="listitem" ltr="" scxw157264483="" bcx0"="">    <p scxw157264483="" bcx0"="" paraid="4" paraeid="{5080a18d-e2be-4d04-ae74-3ec94bc3603e}{11}">Social Circle&nbsp;City&nbsp;Hall&nbsp;<br bcx0"="">    166 N. Cherokee Road&nbsp;</p>    </li></ul></div><div scxw157264483="" bcx0"=""><ul scxw157264483="" bcx0"="" role="list">    <li aria-setsize="-1" data-leveltext="●" data-font="" data-list-defn-props="{&quot;335552541&quot;:1,&quot;335559685&quot;:720,&quot;335559991&quot;:360,&quot;469769242&quot;:[8226],&quot;469777803&quot;:&quot;left&quot;,&quot;469777804&quot;:&quot;●&quot;,&quot;469777815&quot;:&quot;multilevel&quot;}" data-aria-posinset="2" data-aria-level="1" role="listitem" ltr="" scxw157264483="" bcx0"="">    <p scxw157264483="" bcx0"="" paraid="5" paraeid="{5080a18d-e2be-4d04-ae74-3ec94bc3603e}{13}">Online:<a scxw157264483="" bcx0"="" href="https://www.socialcirclega.gov/?splash=https%3a%2f%2fengage.macog.com%2felkhart-roundhouse-brownfield&amp;____isexternal=true" target="_blank" rel="noreferrer noopener">&nbsp;</a><a scxw157264483="" bcx0"="" href="https://www.socialcirclega.gov/departments/boards-and-commissions/downtown-development-authority%20" target="_blank" rel="noreferrer noopener">https://www.socialcirclega.gov/departments/boards-and-commissions/downtown-development-authority&nbsp;</a>&nbsp;<br bcx0"="">    &nbsp;</p>    </li></ul></div><div ltr="" scxw157264483="" bcx0"=""><p scxw157264483="" bcx0"="" paraid="6" paraeid="{5080a18d-e2be-4d04-ae74-3ec94bc3603e}{15}">The&nbsp;Downtown Development Authority&nbsp;will hold a Public Meeting&nbsp;to present the proposed cleanup plan, review the draft ABCA, discuss key components of the EPA Cleanup Grant application, provide site history and environmental context, and receive community feedback:&nbsp;</p></div><div ltr="" scxw157264483="" bcx0"=""><p scxw157264483="" bcx0"="" paraid="7" paraeid="{5080a18d-e2be-4d04-ae74-3ec94bc3603e}{17}">Public Meeting:&nbsp;<br bcx0"="">Date:&nbsp;January 12th, 2026&nbsp;<br bcx0"="">Time:&nbsp;9:00 AM&nbsp;<br bcx0"="">Location:&nbsp;Community Room:&nbsp;138 E Hightower Trail&nbsp;</p></div><div ltr="" scxw157264483="" bcx0"=""><p scxw157264483="" bcx0"="" paraid="8" paraeid="{5080a18d-e2be-4d04-ae74-3ec94bc3603e}{19}">Community members are encouraged to attend, review the draft materials, provide comments, and learn more about future redevelopment opportunities for this important neighborhood site.&nbsp;</p></div><div ltr="" scxw157264483="" bcx0"=""><p scxw157264483="" bcx0"="" paraid="9" paraeid="{5080a18d-e2be-4d04-ae74-3ec94bc3603e}{21}">Submitting Comments:&nbsp;<br bcx0"="">Written comments on the draft application and ABCA may be&nbsp;submitted&nbsp;by email. Comments will also be accepted during the public meeting. Written comments will be accepted through&nbsp;4:30 PM on&nbsp;January 20, 2026.&nbsp;</p></div><div ltr="" scxw157264483="" bcx0"=""><p scxw157264483="" bcx0"="" paraid="10" paraeid="{5080a18d-e2be-4d04-ae74-3ec94bc3603e}{23}">For more information or to&nbsp;submit&nbsp;comments, please contact:&nbsp;<br bcx0"="">Mike Owens&nbsp;<br bcx0"="">Chairman&nbsp;&nbsp;<br bcx0"="">Downtown Development Authority of Social Circle&nbsp;<br bcx0"="">404-488-0929&nbsp;|&nbsp;<a scxw157264483="" bcx0"="" href="mailto:mowens.ddasc@socialcirclega.gov" target="_blank" rel="noreferrer noopener">mowens.ddasc@socialcirclega.gov</a>&nbsp;</p></div>
X-ALT-DESC;FMTTYPE=text/html:<div ltr="" scxw157264483="" bcx0"=""><p scxw157264483="" bcx0"="" paraid="1" paraeid="{5080a18d-e2be-4d04-ae74-3ec94bc3603e}{4}">PUBLIC NOTICE&nbsp;</p></div><div ltr="" scxw157264483="" bcx0"=""><p scxw157264483="" bcx0"="" paraid="2" paraeid="{5080a18d-e2be-4d04-ae74-3ec94bc3603e}{7}">The&nbsp;Down&nbsp;Department&nbsp;Authority of Social Circle&nbsp;is applying for funding from the U.S. Environmental Protection Agency (EPA) Brownfields Cleanup Grant to address contamination at the historic&nbsp;Social Circle Cotton Mill&nbsp;Site&nbsp;located&nbsp;in the&nbsp;Historic District.&nbsp;</p></div><div ltr="" scxw157264483="" bcx0"=""><p scxw157264483="" bcx0"="" paraid="3" paraeid="{5080a18d-e2be-4d04-ae74-3ec94bc3603e}{9}">A&nbsp;draft grant application, including the&nbsp;draft Analysis of Brownfield Cleanup Alternatives (ABCA), is available for public review and comment at:&nbsp;</p></div><div scxw157264483="" bcx0"=""><ul scxw157264483="" bcx0"="" role="list">    <li aria-setsize="-1" data-leveltext="●" data-font="" data-list-defn-props="{&quot;335552541&quot;:1,&quot;335559685&quot;:720,&quot;335559991&quot;:360,&quot;469769242&quot;:[8226],&quot;469777803&quot;:&quot;left&quot;,&quot;469777804&quot;:&quot;●&quot;,&quot;469777815&quot;:&quot;multilevel&quot;}" data-aria-posinset="1" data-aria-level="1" role="listitem" ltr="" scxw157264483="" bcx0"="">    <p scxw157264483="" bcx0"="" paraid="4" paraeid="{5080a18d-e2be-4d04-ae74-3ec94bc3603e}{11}">Social Circle&nbsp;City&nbsp;Hall&nbsp;<br bcx0"="">    166 N. Cherokee Road&nbsp;</p>    </li></ul></div><div scxw157264483="" bcx0"=""><ul scxw157264483="" bcx0"="" role="list">    <li aria-setsize="-1" data-leveltext="●" data-font="" data-list-defn-props="{&quot;335552541&quot;:1,&quot;335559685&quot;:720,&quot;335559991&quot;:360,&quot;469769242&quot;:[8226],&quot;469777803&quot;:&quot;left&quot;,&quot;469777804&quot;:&quot;●&quot;,&quot;469777815&quot;:&quot;multilevel&quot;}" data-aria-posinset="2" data-aria-level="1" role="listitem" ltr="" scxw157264483="" bcx0"="">    <p scxw157264483="" bcx0"="" paraid="5" paraeid="{5080a18d-e2be-4d04-ae74-3ec94bc3603e}{13}">Online:<a scxw157264483="" bcx0"="" href="https://www.socialcirclega.gov/?splash=https%3a%2f%2fengage.macog.com%2felkhart-roundhouse-brownfield&amp;____isexternal=true" target="_blank" rel="noreferrer noopener">&nbsp;</a><a scxw157264483="" bcx0"="" href="https://www.socialcirclega.gov/departments/boards-and-commissions/downtown-development-authority%20" target="_blank" rel="noreferrer noopener">https://www.socialcirclega.gov/departments/boards-and-commissions/downtown-development-authority&nbsp;</a>&nbsp;<br bcx0"="">    &nbsp;</p>    </li></ul></div><div ltr="" scxw157264483="" bcx0"=""><p scxw157264483="" bcx0"="" paraid="6" paraeid="{5080a18d-e2be-4d04-ae74-3ec94bc3603e}{15}">The&nbsp;Downtown Development Authority&nbsp;will hold a Public Meeting&nbsp;to present the proposed cleanup plan, review the draft ABCA, discuss key components of the EPA Cleanup Grant application, provide site history and environmental context, and receive community feedback:&nbsp;</p></div><div ltr="" scxw157264483="" bcx0"=""><p scxw157264483="" bcx0"="" paraid="7" paraeid="{5080a18d-e2be-4d04-ae74-3ec94bc3603e}{17}">Public Meeting:&nbsp;<br bcx0"="">Date:&nbsp;January 12th, 2026&nbsp;<br bcx0"="">Time:&nbsp;9:00 AM&nbsp;<br bcx0"="">Location:&nbsp;Community Room:&nbsp;138 E Hightower Trail&nbsp;</p></div><div ltr="" scxw157264483="" bcx0"=""><p scxw157264483="" bcx0"="" paraid="8" paraeid="{5080a18d-e2be-4d04-ae74-3ec94bc3603e}{19}">Community members are encouraged to attend, review the draft materials, provide comments, and learn more about future redevelopment opportunities for this important neighborhood site.&nbsp;</p></div><div ltr="" scxw157264483="" bcx0"=""><p scxw157264483="" bcx0"="" paraid="9" paraeid="{5080a18d-e2be-4d04-ae74-3ec94bc3603e}{21}">Submitting Comments:&nbsp;<br bcx0"="">Written comments on the draft application and ABCA may be&nbsp;submitted&nbsp;by email. Comments will also be accepted during the public meeting. Written comments will be accepted through&nbsp;4:30 PM on&nbsp;January 20, 2026.&nbsp;</p></div><div ltr="" scxw157264483="" bcx0"=""><p scxw157264483="" bcx0"="" paraid="10" paraeid="{5080a18d-e2be-4d04-ae74-3ec94bc3603e}{23}">For more information or to&nbsp;submit&nbsp;comments, please contact:&nbsp;<br bcx0"="">Mike Owens&nbsp;<br bcx0"="">Chairman&nbsp;&nbsp;<br bcx0"="">Downtown Development Authority of Social Circle&nbsp;<br bcx0"="">404-488-0929&nbsp;|&nbsp;<a scxw157264483="" bcx0"="" href="mailto:mowens.ddasc@socialcirclega.gov" target="_blank" rel="noreferrer noopener">mowens.ddasc@socialcirclega.gov</a>&nbsp;</p></div>
LOCATION:City Community Room\, 138 East Hightower Trail Social Circle\, Georgia 30025
CLASS:PUBLIC
END:VEVENT
END:VCALENDAR
