BEGIN:VCALENDAR
VERSION:2.0
PRODID:Social Circle, GA Calendar Creator
METHOD:PUBLISH
BEGIN:VEVENT
DTSTAMP:20260319T110342
DTSTART:20260326T180000
DTEND:20260326T190000
SUMMARY:Tree Board Meeting - CANCELLED
DESCRIPTION:CANCELLED - Lack of Quorum
X-ALT-DESC;FMTTYPE=text/html:CANCELLED - Lack of Quorum
LOCATION:City Community Room\, 138 East Hightower Trail Social Circle\, Georgia 30025
CLASS:PUBLIC
END:VEVENT
END:VCALENDAR
