BEGIN:VCALENDAR
VERSION:2.0
PRODID:Social Circle, GA Calendar Creator
METHOD:PUBLISH
BEGIN:VEVENT
DTSTAMP:20260122T105415
DTSTART:20260122T180000
DTEND:20260122T190000
SUMMARY:Tree Board Meeting - CANCELLED
DESCRIPTION:THIS MEETING IS CANCELLED DUE TO A LACK OF QUORUM
X-ALT-DESC;FMTTYPE=text/html:THIS MEETING IS CANCELLED DUE TO A LACK OF QUORUM
LOCATION:City Community Room\, 138 East Hightower Trail Social Circle\, Georgia 30025
CLASS:PUBLIC
END:VEVENT
END:VCALENDAR
