BEGIN:VCALENDAR
VERSION:2.0
PRODID:Social Circle, GA Calendar Creator
METHOD:PUBLISH
BEGIN:VEVENT
DTSTAMP:20251009T114348
DTSTART:20251212T120000
DTEND:20251212T163000
SUMMARY:City Hall Closed for Employee Appreciation Luncheon
DESCRIPTION:City Hall will be closed from Noon to close of business on December 12 for the City Employee Appreciation Luncheon.&nbsp;
X-ALT-DESC;FMTTYPE=text/html:City Hall will be closed from Noon to close of business on December 12 for the City Employee Appreciation Luncheon.&nbsp;
LOCATION:
CLASS:PUBLIC
END:VEVENT
END:VCALENDAR
