BEGIN:VCALENDAR
VERSION:2.0
PRODID:Social Circle, GA Calendar Creator
METHOD:PUBLISH
BEGIN:VEVENT
DTSTAMP:20250825T142648
DTSTART:20250825T000000
DTEND:20250912T150000
SUMMARY:Friendship Festival Application Deadline
DESCRIPTION:<a href="https://social.prod-as.govaccess.org/home/showpublisheddocument/1366/638917285731370000" target="_blank">Click here for the 2025 Friendship Festival Application.</a>
X-ALT-DESC;FMTTYPE=text/html:<a href="https://social.prod-as.govaccess.org/home/showpublisheddocument/1366/638917285731370000" target="_blank">Click here for the 2025 Friendship Festival Application.</a>
LOCATION:
CLASS:PUBLIC
END:VEVENT
END:VCALENDAR
