BEGIN:VCALENDAR
VERSION:2.0
PRODID:Social Circle, GA Calendar Creator
METHOD:PUBLISH
BEGIN:VEVENT
DTSTAMP:20250818T152231
DTSTART:20251107T160000
DTEND:20251107T160000
SUMMARY:Christmas Parade Application Deadline
DESCRIPTION:<p>Christmas Parade Application Deadline. Return application and payment to the Social Circle Welcome Center.&nbsp;</p><p><a href="https://social.prod-as.govaccess.org/home/showpublisheddocument/1276/638911270826570000" target="_blank">CLICK HERE FOR THE APPLICATION!</a></p>
X-ALT-DESC;FMTTYPE=text/html:<p>Christmas Parade Application Deadline. Return application and payment to the Social Circle Welcome Center.&nbsp;</p><p><a href="https://social.prod-as.govaccess.org/home/showpublisheddocument/1276/638911270826570000" target="_blank">CLICK HERE FOR THE APPLICATION!</a></p>
LOCATION:
CLASS:PUBLIC
END:VEVENT
END:VCALENDAR
