BEGIN:VCALENDAR
VERSION:2.0
PRODID:Social Circle, GA Calendar Creator
METHOD:PUBLISH
BEGIN:VEVENT
DTSTAMP:20250701T111606
DTSTART:20250703T160000
DTEND:20250703T190000
SUMMARY:Social Circle Farmer's Market
DESCRIPTION:<div xat24cr="" x1lziwak="" x1vvkbs="" xtlvy1s="" x126k92a"=""><div dir="auto">Join us this Thursday, July 3rd from 4–7 PM at Friendship Park for an evening of shopping, snacking, and celebrating local!</div></div><div xat24cr="" x1lziwak="" x1vvkbs="" xtlvy1s="" x126k92a"=""><div dir="auto"> You’ll find:</div><div dir="auto"> Cut flowers</div><div dir="auto"> Local honey</div><div dir="auto"> Goat milk soaps &amp; loofahs</div><div dir="auto"> Farm-fresh eggs</div><div dir="auto"> Produce, dried fruits, jams, baked goods &amp; more!</div><div dir="auto"> Candied nuts and other handmade treats</div></div><div xat24cr="" x1lziwak="" x1vvkbs="" xtlvy1s="" x126k92a"=""><div dir="auto"> Enjoy live music from Rebecca Howard while you browse!</div></div><div xat24cr="" x1lziwak="" x1vvkbs="" xtlvy1s="" x126k92a"=""><div dir="auto">It’s the perfect time to grab your goodies before the 4th of July weekend, come support local and soak up the small-town charm. </div></div><div xat24cr="" x1lziwak="" x1vvkbs="" xtlvy1s="" x126k92a"=""><div dir="auto"> Friendship Park | Downtown Social Circle</div><div dir="auto"> Thursday, July 3rd</div><div dir="auto"> 4 PM – 7 PM</div></div>
X-ALT-DESC;FMTTYPE=text/html:<div xat24cr="" x1lziwak="" x1vvkbs="" xtlvy1s="" x126k92a"=""><div dir="auto">Join us this Thursday, July 3rd from 4–7 PM at Friendship Park for an evening of shopping, snacking, and celebrating local!</div></div><div xat24cr="" x1lziwak="" x1vvkbs="" xtlvy1s="" x126k92a"=""><div dir="auto"> You’ll find:</div><div dir="auto"> Cut flowers</div><div dir="auto"> Local honey</div><div dir="auto"> Goat milk soaps &amp; loofahs</div><div dir="auto"> Farm-fresh eggs</div><div dir="auto"> Produce, dried fruits, jams, baked goods &amp; more!</div><div dir="auto"> Candied nuts and other handmade treats</div></div><div xat24cr="" x1lziwak="" x1vvkbs="" xtlvy1s="" x126k92a"=""><div dir="auto"> Enjoy live music from Rebecca Howard while you browse!</div></div><div xat24cr="" x1lziwak="" x1vvkbs="" xtlvy1s="" x126k92a"=""><div dir="auto">It’s the perfect time to grab your goodies before the 4th of July weekend, come support local and soak up the small-town charm. </div></div><div xat24cr="" x1lziwak="" x1vvkbs="" xtlvy1s="" x126k92a"=""><div dir="auto"> Friendship Park | Downtown Social Circle</div><div dir="auto"> Thursday, July 3rd</div><div dir="auto"> 4 PM – 7 PM</div></div>
LOCATION:
CLASS:PUBLIC
END:VEVENT
END:VCALENDAR
