BEGIN:VCALENDAR
VERSION:2.0
PRODID:Social Circle, GA Calendar Creator
METHOD:PUBLISH
BEGIN:VEVENT
DTSTAMP:20250630T105308
DTSTART:20250704T000000
DTEND:20250704T235900
SUMMARY:Independence Day Holiday
DESCRIPTION:City Hall will be closed this Friday, July 4, for the Independence Day Holiday. We will re-open on Monday, July 7, at 8:00 a.m.
X-ALT-DESC;FMTTYPE=text/html:City Hall will be closed this Friday, July 4, for the Independence Day Holiday. We will re-open on Monday, July 7, at 8:00 a.m.
LOCATION:
CLASS:PUBLIC
END:VEVENT
END:VCALENDAR
