BEGIN:VCALENDAR
VERSION:2.0
PRODID:Social Circle, GA Calendar Creator
METHOD:PUBLISH
BEGIN:VEVENT
DTSTAMP:20250305T092158
DTSTART:20250315T100000
DTEND:20250315T130000
SUMMARY:St Pattys Day Kids Crawl
DESCRIPTION:Visit out events page for more information!&nbsp;
X-ALT-DESC;FMTTYPE=text/html:Visit out events page for more information!&nbsp;
LOCATION:
CLASS:PUBLIC
END:VEVENT
END:VCALENDAR
