BEGIN:VCALENDAR
VERSION:2.0
PRODID:Social Circle, GA Calendar Creator
METHOD:PUBLISH
BEGIN:VEVENT
DTSTAMP:20250220T095616
DTSTART:20250222T100000
DTEND:20250222T120000
SUMMARY:Black History Month Celebration & Video Premier
DESCRIPTION:
X-ALT-DESC;FMTTYPE=text/html:
LOCATION:City Community Room\, 138 East Hightower Trail Social Circle\, Georgia 30025
CLASS:PUBLIC
END:VEVENT
END:VCALENDAR
